BEGIN:VCALENDAR
VERSION:2.0
PRODID:-//Lerass - ECPv4.8//NONSGML v1.0//EN
CALSCALE:GREGORIAN
METHOD:PUBLISH
X-WR-CALNAME:Lerass
X-ORIGINAL-URL:https://www.lerass.com
X-WR-CALDESC:Évènements pour Lerass
BEGIN:VEVENT
DTSTART;TZID=Europe/Paris:20231208T140000
DTEND;TZID=Europe/Paris:20231208T160000
DTSTAMP:20260422T074827
CREATED:20231204T083309Z
LAST-MODIFIED:20231204T083803Z
UID:10335-1702044000-1702051200@www.lerass.com
SUMMARY:Séminaire Axe Usages sociaux du langage verbal
DESCRIPTION:Dans la continuité de nos séminaires autour de la question des discriminations\, nous accueillerons Ingrid Verscheure\, Professeure des universités en Sciences de l’éducation à l’UT2J\, avec une présentation intitulée « Courir comme une fille…? courir comme un garçon… ? courir comme d’habitude…? Quand les filles s’auto-discriminent ! Etude de cas en grande section de maternelle » \n
URL:https://www.lerass.com/event/10335/
LOCATION:salle A1 Maison de la recherche UT2J
END:VEVENT
END:VCALENDAR