BEGIN:VCALENDAR
VERSION:2.0
PRODID:-//Lerass - ECPv4.8//NONSGML v1.0//EN
CALSCALE:GREGORIAN
METHOD:PUBLISH
X-WR-CALNAME:Lerass
X-ORIGINAL-URL:https://www.lerass.com
X-WR-CALDESC:Évènements pour Lerass
BEGIN:VEVENT
DTSTART;TZID=Europe/Paris:20201002T090000
DTEND;TZID=Europe/Paris:20201002T120000
DTSTAMP:20260421T204746
CREATED:20200702T075619Z
LAST-MODIFIED:20200903T133807Z
UID:7444-1601629200-1601640000@www.lerass.com
SUMMARY:Assemblée Générale par visioconférence Zoom
DESCRIPTION:Ordre du jour : \n\nBilan d’activités\nBilan financier 2019\nElection de la nouvelle équipe de direction :\n\nIntervention de Pascal Marchand sur ses 8 années de mandature\nIntervention de l’équipe candidate\nVote électronique\n\n\n\n
URL:https://www.lerass.com/event/assemblee-generale/
LOCATION:Visioconférence Zoom
CATEGORIES:Conseil de laboratoire
END:VEVENT
END:VCALENDAR