BEGIN:VCALENDAR
VERSION:2.0
PRODID:-//Lerass - ECPv4.8//NONSGML v1.0//EN
CALSCALE:GREGORIAN
METHOD:PUBLISH
X-WR-CALNAME:Lerass
X-ORIGINAL-URL:https://www.lerass.com
X-WR-CALDESC:Évènements pour Lerass
BEGIN:VEVENT
DTSTART;TZID=Europe/Paris:20220609T140000
DTEND;TZID=Europe/Paris:20220609T170000
DTSTAMP:20260420T015609
CREATED:20220705T075503Z
LAST-MODIFIED:20220705T075544Z
UID:9300-1654783200-1654794000@www.lerass.com
SUMMARY:Atelier doctoral - Intervention de Philippe Bouquillion
DESCRIPTION:Conférence intitulée : « Actualités de la recherche sur les industries culturelles et créatives » \n\n\n\nIl nous présentera ses dernières recherches sur les plateformes en Inde et les dernières avancées de la recherche dans le domaine des industries culturelles.\n\nLa conférence est ouverte à tous les membres du LERASS\n\nLes doctorantes et doctorants toulousains sont invité-e-s à venir y assister en présentiel\, pour les autres nous mettrons en place un lien zoom.\n\n\n\n
URL:https://www.lerass.com/event/atelier-doctoral-intervention-de-philippe-bouquillion/
LOCATION:IUT Paul Sabatier – Site Ponsan – Salle du Conseil
END:VEVENT
END:VCALENDAR