BEGIN:VCALENDAR
VERSION:2.0
PRODID:-//Lerass - ECPv4.8//NONSGML v1.0//EN
CALSCALE:GREGORIAN
METHOD:PUBLISH
X-WR-CALNAME:Lerass
X-ORIGINAL-URL:https://www.lerass.com
X-WR-CALDESC:Évènements pour Lerass
BEGIN:VEVENT
DTSTART;TZID=Europe/Paris:20181005T090000
DTEND;TZID=Europe/Paris:20181005T170000
DTSTAMP:20260423T231615
CREATED:20180613T080416Z
LAST-MODIFIED:20180613T080721Z
UID:6279-1538730000-1538758800@www.lerass.com
SUMMARY:Axe Genre
DESCRIPTION:
URL:https://www.lerass.com/event/axe-genre-3/
CATEGORIES:Séminaire d'Axe
END:VEVENT
END:VCALENDAR