BEGIN:VCALENDAR
VERSION:2.0
PRODID:-//Lerass - ECPv4.8//NONSGML v1.0//EN
CALSCALE:GREGORIAN
METHOD:PUBLISH
X-WR-CALNAME:Lerass
X-ORIGINAL-URL:https://www.lerass.com
X-WR-CALDESC:Évènements pour Lerass
BEGIN:VEVENT
DTSTART;VALUE=DATE:20201009
DTEND;VALUE=DATE:20201010
DTSTAMP:20260423T181124
CREATED:20201006T124644Z
LAST-MODIFIED:20201006T124644Z
UID:7669-1602201600-1602287999@www.lerass.com
SUMMARY:Axe genre - Réunion de travail Codage des JT dans le cadre du GMMP
DESCRIPTION:avec la participation des collègues de l’INA \n
URL:https://www.lerass.com/event/axe-genre-reunion-de-travail-codage-des-jt-dans-le-cadre-du-gmmp/
LOCATION:Campus du Mirail\, salle du conseil du bâtiment Gai Savoir\, (2ème étage\, face à l’escalier)
CATEGORIES:Séminaire d'Axe
END:VEVENT
END:VCALENDAR