BEGIN:VCALENDAR
VERSION:2.0
PRODID:-//Lerass - ECPv4.8//NONSGML v1.0//EN
CALSCALE:GREGORIAN
METHOD:PUBLISH
X-WR-CALNAME:Lerass
X-ORIGINAL-URL:https://www.lerass.com
X-WR-CALDESC:Évènements pour Lerass
BEGIN:VEVENT
DTSTART;TZID=Europe/Paris:20171117T140000
DTEND;TZID=Europe/Paris:20171117T170000
DTSTAMP:20260424T085100
CREATED:20170707T091444Z
LAST-MODIFIED:20171113T082637Z
UID:5901-1510927200-1510938000@www.lerass.com
SUMMARY:Axe "genre"
DESCRIPTION:Ordre du jour : choix et définition des axes de recherche à privilégier pour l’année 2017-2018 (et suivantes !) \n  \n – épistémologie du genre : quid du genre du/de la chercheur.e face à son objet de recherche. \nNous avions commencé à réfléchir à cette question lors de nos précédentes rencontres. \n– le genre de la voix  \nOn peut choisir de travailler parallèlement sur les deux thématiques\, ou d’en privilégier une ; bref\, c’est à débattre. \n
URL:https://www.lerass.com/event/axe-genre/
LOCATION:salle du conseil du bâtiment Gai Savoir (à l’étage\, juste en face de l’escalier principal)\, UT2J
CATEGORIES:Séminaire d'Axe
END:VEVENT
END:VCALENDAR