BEGIN:VCALENDAR
VERSION:2.0
PRODID:-//Lerass - ECPv4.8//NONSGML v1.0//EN
CALSCALE:GREGORIAN
METHOD:PUBLISH
X-WR-CALNAME:Lerass
X-ORIGINAL-URL:https://www.lerass.com
X-WR-CALDESC:Évènements pour Lerass
BEGIN:VEVENT
DTSTART;TZID=Europe/Paris:20181122T140000
DTEND;TZID=Europe/Paris:20181122T170000
DTSTAMP:20260424T033806
CREATED:20180922T090157Z
LAST-MODIFIED:20190211T083201Z
UID:6365-1542895200-1542906000@www.lerass.com
SUMMARY:Axe MSN
DESCRIPTION:Salle 134 du département Info-Com (1ère étage à droite). \nLe séminaire sera consacré au projet européen H2020 JOLT harnessing digital and data technologies for journalism (http://fujomedia.eu/jolt-etn/) \nAprès une brève introduction par leurs directeurs de thèse\, nous allons entendre les trois nouveaux doctorant-e-s recruté-e-s par le LERASS dans le cadre de ce projet sur leur sujets de thèse respectifs: \nSophie Chauvet : l’usage des mesures d’audience (metrics\, analytics) au sein des rédactions en ligne et leur impact sur le journalisme \n Gabriela Gruszynski Sanseverino : la gestion de la participation au sein des rédactions en ligne et les pratiques de modération de contenu (en anglais)\n \nGiuliander Carpes : les stratégies des éditeurs des médias en ligne face à l’emprise des plateformes et des intermédiaires (en anglais) \n
URL:https://www.lerass.com/event/axe-msn-2/
CATEGORIES:Séminaire d'Axe
END:VEVENT
END:VCALENDAR