BEGIN:VCALENDAR
VERSION:2.0
PRODID:-//Lerass - ECPv4.8//NONSGML v1.0//EN
CALSCALE:GREGORIAN
METHOD:PUBLISH
X-WR-CALNAME:Lerass
X-ORIGINAL-URL:https://www.lerass.com
X-WR-CALDESC:Évènements pour Lerass
BEGIN:VEVENT
DTSTART;TZID=Europe/Paris:20180921T100000
DTEND;TZID=Europe/Paris:20180921T123000
DTSTAMP:20260424T051333
CREATED:20180706T074806Z
LAST-MODIFIED:20190211T083303Z
UID:6335-1537524000-1537533000@www.lerass.com
SUMMARY:Axe MSN
DESCRIPTION:
URL:https://www.lerass.com/event/axe-msn/
CATEGORIES:Séminaire d'Axe
END:VEVENT
END:VCALENDAR