BEGIN:VCALENDAR
VERSION:2.0
PRODID:-//Lerass - ECPv4.8//NONSGML v1.0//EN
CALSCALE:GREGORIAN
METHOD:PUBLISH
X-WR-CALNAME:Lerass
X-ORIGINAL-URL:https://www.lerass.com
X-WR-CALDESC:Évènements pour Lerass
BEGIN:VEVENT
DTSTART;TZID=Europe/Paris:20180112T093000
DTEND;TZID=Europe/Paris:20180112T123000
DTSTAMP:20260424T094317
CREATED:20171026T115206Z
LAST-MODIFIED:20171113T082421Z
UID:6047-1515749400-1515760200@www.lerass.com
SUMMARY:Axe Patrimoine
DESCRIPTION:
URL:https://www.lerass.com/event/axe-patrimoine-2/
LOCATION:D155\, UT2J\, MDR
CATEGORIES:Séminaire d'Axe
END:VEVENT
END:VCALENDAR