BEGIN:VCALENDAR
VERSION:2.0
PRODID:-//Lerass - ECPv4.8//NONSGML v1.0//EN
CALSCALE:GREGORIAN
METHOD:PUBLISH
X-WR-CALNAME:Lerass
X-ORIGINAL-URL:https://www.lerass.com
X-WR-CALDESC:Évènements pour Lerass
BEGIN:VEVENT
DTSTART;TZID=Europe/Paris:20181004T090000
DTEND;TZID=Europe/Paris:20181004T170000
DTSTAMP:20260424T004305
CREATED:20180706T074057Z
LAST-MODIFIED:20180925T111956Z
UID:6329-1538643600-1538672400@www.lerass.com
SUMMARY:Axe patrimoine
DESCRIPTION:MDR de l’UT2J (salle E412)\nAu cours de cette séance\, nous évoquerons l’organisation de l’année et nous amorcerons notre réflexion collective concernant la rédaction d’une présentation de l’axe (contenu informatif).\nLe séminaire est ouvert à tous. \n
URL:https://www.lerass.com/event/axe-patrimoine-6/
CATEGORIES:Séminaire d'Axe
END:VEVENT
END:VCALENDAR