BEGIN:VCALENDAR
VERSION:2.0
PRODID:-//Lerass - ECPv4.8//NONSGML v1.0//EN
CALSCALE:GREGORIAN
METHOD:PUBLISH
X-WR-CALNAME:Lerass
X-ORIGINAL-URL:https://www.lerass.com
X-WR-CALDESC:Évènements pour Lerass
BEGIN:VEVENT
DTSTART;TZID=Europe/Paris:20190111T090000
DTEND;TZID=Europe/Paris:20190111T123000
DTSTAMP:20260424T021825
CREATED:20180706T074151Z
LAST-MODIFIED:20180706T074151Z
UID:6331-1547197200-1547209800@www.lerass.com
SUMMARY:Axe patrimoine
DESCRIPTION:
URL:https://www.lerass.com/event/axe-patrimoine-7/
CATEGORIES:Séminaire d'Axe
END:VEVENT
END:VCALENDAR