BEGIN:VCALENDAR
VERSION:2.0
PRODID:-//Lerass - ECPv4.8//NONSGML v1.0//EN
CALSCALE:GREGORIAN
METHOD:PUBLISH
X-WR-CALNAME:Lerass
X-ORIGINAL-URL:https://www.lerass.com
X-WR-CALDESC:Évènements pour Lerass
BEGIN:VEVENT
DTSTART;TZID=Europe/Paris:20190405T090000
DTEND;TZID=Europe/Paris:20190405T123000
DTSTAMP:20260424T040416
CREATED:20180706T074656Z
LAST-MODIFIED:20180706T074656Z
UID:6333-1554454800-1554467400@www.lerass.com
SUMMARY:Axe patrimoine
DESCRIPTION:
URL:https://www.lerass.com/event/axe-patrimoine-8/
CATEGORIES:Séminaire d'Axe
END:VEVENT
END:VCALENDAR