BEGIN:VCALENDAR
VERSION:2.0
PRODID:-//Lerass - ECPv4.8//NONSGML v1.0//EN
CALSCALE:GREGORIAN
METHOD:PUBLISH
X-WR-CALNAME:Lerass
X-ORIGINAL-URL:https://www.lerass.com
X-WR-CALDESC:Évènements pour Lerass
BEGIN:VEVENT
DTSTART;TZID=Europe/Paris:20171006T100000
DTEND;TZID=Europe/Paris:20171006T120000
DTSTAMP:20260424T150130
CREATED:20170911T080745Z
LAST-MODIFIED:20171113T082808Z
UID:5918-1507284000-1507291200@www.lerass.com
SUMMARY:Axe Patrimoine
DESCRIPTION:
URL:https://www.lerass.com/event/axe-patrimoine/
LOCATION:Salle A1\, MDR UT2J
CATEGORIES:Séminaire d'Axe
END:VEVENT
END:VCALENDAR