BEGIN:VCALENDAR
VERSION:2.0
PRODID:-//Lerass - ECPv4.8//NONSGML v1.0//EN
CALSCALE:GREGORIAN
METHOD:PUBLISH
X-WR-CALNAME:Lerass
X-ORIGINAL-URL:https://www.lerass.com
X-WR-CALDESC:Évènements pour Lerass
BEGIN:VEVENT
DTSTART;TZID=Europe/Paris:20210611T140000
DTEND;TZID=Europe/Paris:20210611T170000
DTSTAMP:20260424T085712
CREATED:20210528T060856Z
LAST-MODIFIED:20210528T061306Z
UID:8410-1623420000-1623430800@www.lerass.com
SUMMARY:Axe Patrimoines -  Journées d'hommage à Yves Jeanneret - 2ème session
DESCRIPTION:Visioconférence du réseau de chercheurs franco-brésiliens MUSSI\nProgramme\n14H – Présentation de la deuxième session par le modérateur Patrick Fraysse (Université Toulouse III- Paul Sabatier)\n14H10 – Viviane Couzinet (Université Paul Sabatier Toulouse 3 – France) Écriture documentaire : questions à l’écriture des recherches\n14H45 – Joëlle Le Marec (Université Paris IV Sorbonne – France) Questionner ou assumer les frontières? La recherche entre médiations institutionnelles et productions médiatiques\n15H15 – Icléia Thiesen (Universidade Federal do Estado do Rio de Janeiro- Brésil) Relations de pouvoir et résistance dans la trivialité: flux\, reflux et contre-flux dans la construction de l’héritage de la dictature militaire au Brésil – quels sont les défis ?\n15H45 – Adeline Wrona (Université Paris IV Sorbonne – France) La littérature au carrefour : Yves Jeanneret penseur de la circulation littéraire\n16H15 – Lídia Cavalcante (Universidade Federal do Ceará – Brésil) Trace et traçabilité: réflexions à la lumière de la pensée d’Yves Jeanneret\n16H45 – Débats et clôture \n
URL:https://www.lerass.com/event/axe-patrimoines-visioconference-du-reseau-de-chercheurs-franco-bresiliens-mussi-2/
LOCATION:Visio
END:VEVENT
END:VCALENDAR