BEGIN:VCALENDAR
VERSION:2.0
PRODID:-//Lerass - ECPv4.8//NONSGML v1.0//EN
CALSCALE:GREGORIAN
METHOD:PUBLISH
X-WR-CALNAME:Lerass
X-ORIGINAL-URL:https://www.lerass.com
X-WR-CALDESC:Évènements pour Lerass
BEGIN:VEVENT
DTSTART;TZID=Europe/Paris:20171201T090000
DTEND;TZID=Europe/Paris:20171201T120000
DTSTAMP:20260424T085433
CREATED:20170713T070949Z
LAST-MODIFIED:20171113T082512Z
UID:5904-1512118800-1512129600@www.lerass.com
SUMMARY:Axe "santé" : "Éthique et méthode en santé"
DESCRIPTION:
URL:https://www.lerass.com/event/axe-sante-ethique-et-methode-en-sante/
LOCATION:IUT A
CATEGORIES:Séminaire d'Axe
END:VEVENT
END:VCALENDAR