BEGIN:VCALENDAR
VERSION:2.0
PRODID:-//Lerass - ECPv4.8//NONSGML v1.0//EN
CALSCALE:GREGORIAN
METHOD:PUBLISH
X-WR-CALNAME:Lerass
X-ORIGINAL-URL:https://www.lerass.com
X-WR-CALDESC:Évènements pour Lerass
BEGIN:VEVENT
DTSTART;TZID=Europe/Paris:20180622T090000
DTEND;TZID=Europe/Paris:20180622T120000
DTSTAMP:20260424T040432
CREATED:20171016T072905Z
LAST-MODIFIED:20180613T074101Z
UID:6032-1529658000-1529668800@www.lerass.com
SUMMARY:Conseil de laboratoire
DESCRIPTION:
URL:https://www.lerass.com/event/conseil-de-laboratoire-10/
LOCATION:Salle du conseil
CATEGORIES:Conseil de laboratoire
END:VEVENT
END:VCALENDAR