BEGIN:VCALENDAR
VERSION:2.0
PRODID:-//Lerass - ECPv4.8//NONSGML v1.0//EN
CALSCALE:GREGORIAN
METHOD:PUBLISH
X-WR-CALNAME:Lerass
X-ORIGINAL-URL:https://www.lerass.com
X-WR-CALDESC:Évènements pour Lerass
BEGIN:VEVENT
DTSTART;TZID=Europe/Paris:20201016T090000
DTEND;TZID=Europe/Paris:20201016T120000
DTSTAMP:20260421T053935
CREATED:20200903T133158Z
LAST-MODIFIED:20200903T133158Z
UID:7534-1602838800-1602849600@www.lerass.com
SUMMARY:Conseil de Laboratoire
DESCRIPTION:
URL:https://www.lerass.com/event/conseil-de-laboratoire-14/
LOCATION:(à préciser)
CATEGORIES:Conseil de laboratoire
END:VEVENT
END:VCALENDAR