BEGIN:VCALENDAR
VERSION:2.0
PRODID:-//Lerass - ECPv4.8//NONSGML v1.0//EN
CALSCALE:GREGORIAN
METHOD:PUBLISH
X-WR-CALNAME:Lerass
X-ORIGINAL-URL:https://www.lerass.com
X-WR-CALDESC:Évènements pour Lerass
BEGIN:VEVENT
DTSTART;TZID=Europe/Paris:20170922T090000
DTEND;TZID=Europe/Paris:20170922T120000
DTSTAMP:20260424T115408
CREATED:20170713T125545Z
LAST-MODIFIED:20171113T082822Z
UID:5911-1506070800-1506081600@www.lerass.com
SUMMARY:Conseil de laboratoire
DESCRIPTION:
URL:https://www.lerass.com/event/conseil-de-laboratoire-2/
LOCATION:Salle du Conseil\, IUT A Ponsan
CATEGORIES:Conseil de laboratoire
END:VEVENT
END:VCALENDAR