BEGIN:VCALENDAR
VERSION:2.0
PRODID:-//Lerass - ECPv4.8//NONSGML v1.0//EN
CALSCALE:GREGORIAN
METHOD:PUBLISH
X-WR-CALNAME:Lerass
X-ORIGINAL-URL:https://www.lerass.com
X-WR-CALDESC:Évènements pour Lerass
BEGIN:VEVENT
DTSTART;TZID=Europe/Paris:20210312T090000
DTEND;TZID=Europe/Paris:20210312T120000
DTSTAMP:20260422T032226
CREATED:20200903T133912Z
LAST-MODIFIED:20200903T133912Z
UID:7550-1615539600-1615550400@www.lerass.com
SUMMARY:Conseil de Laboratoire
DESCRIPTION:
URL:https://www.lerass.com/event/conseil-de-laboratoire-24/
LOCATION:(à préciser)
CATEGORIES:Conseil de laboratoire
END:VEVENT
END:VCALENDAR