BEGIN:VCALENDAR
VERSION:2.0
PRODID:-//Lerass - ECPv4.8//NONSGML v1.0//EN
CALSCALE:GREGORIAN
METHOD:PUBLISH
X-WR-CALNAME:Lerass
X-ORIGINAL-URL:https://www.lerass.com
X-WR-CALDESC:Évènements pour Lerass
BEGIN:VEVENT
DTSTART;TZID=Europe/Paris:20230512T093000
DTEND;TZID=Europe/Paris:20230512T120000
DTSTAMP:20260419T121235
CREATED:20220707T061120Z
LAST-MODIFIED:20220707T061120Z
UID:9408-1683883800-1683892800@www.lerass.com
SUMMARY:Conseil de laboratoire
DESCRIPTION:
URL:https://www.lerass.com/event/conseil-de-laboratoire-44/
CATEGORIES:Conseil de laboratoire
END:VEVENT
END:VCALENDAR