BEGIN:VCALENDAR
VERSION:2.0
PRODID:-//Lerass - ECPv4.8//NONSGML v1.0//EN
CALSCALE:GREGORIAN
METHOD:PUBLISH
X-WR-CALNAME:Lerass
X-ORIGINAL-URL:https://www.lerass.com
X-WR-CALDESC:Évènements pour Lerass
BEGIN:VEVENT
DTSTART;TZID=Europe/Paris:20221007T093000
DTEND;TZID=Europe/Paris:20221007T120000
DTSTAMP:20260424T054020
CREATED:20221003T082620Z
LAST-MODIFIED:20221003T082620Z
UID:9598-1665135000-1665144000@www.lerass.com
SUMMARY:Conseil de laboratoire
DESCRIPTION:Ordre du jour : \n\nLerass 2021-2025\n\n\nBudget 2022 :\n\nReporting au 30/09/2022\nReventilation du budget\nRecrutement de stagiaire\n\n\nPôle doctoral :\n\nSuite Doctoriales 2022\nRentrée doctorale : 10/10/2022\nRenouvellement ADT-SIC\nGT formation doctorale\n\n\nGT Science Ouverte\nEffectifs : Procédure d’exclusion\n\n\nInfos sites :\n\n\n​CPDirSIC\nUniversité de Toulouse :\n\nProjet TIRIS\n\n\nUT3 :\n\nCommission Recherche\nACTIHS\nConseil Recherche IUT du 14/09/2022\n\n\nUT2J :\n\nLabex : prochain copil\nCampagne d’emploi\nForum de la recherche du 14/10/2022\nMSH-T\n\n\nED Allph@ :\n\nForum des encadrants\nAgenda\nDate auditions CDUs : 30/06/2023\nNouvel arrêté doctoral\n\n\nUPVM3\nCDRSH\n\n3. Questions diverses \n\nAxe MSN : demande d’accueil en séjour de recherche\nAxes I2SP et Patrimoines : rencontre avec Mor Dieye\, professeur invité\nAccueil en séjour doctorale de Daniela Paez\nAccueil de Lucie Forte (CRESCO) en CRCT\nNuit européenne des chercheurs\n\n
URL:https://www.lerass.com/event/conseil-de-laboratoire-46/
LOCATION:UT2J Bât Olympe de Gouges Salle GH124
CATEGORIES:Conseil de laboratoire
END:VEVENT
END:VCALENDAR