BEGIN:VCALENDAR
VERSION:2.0
PRODID:-//Lerass - ECPv4.8//NONSGML v1.0//EN
CALSCALE:GREGORIAN
METHOD:PUBLISH
X-WR-CALNAME:Lerass
X-ORIGINAL-URL:https://www.lerass.com
X-WR-CALDESC:Évènements pour Lerass
BEGIN:VEVENT
DTSTART;TZID=Europe/Paris:20171222T090000
DTEND;TZID=Europe/Paris:20171222T123000
DTSTAMP:20260424T081422
CREATED:20171016T072623Z
LAST-MODIFIED:20171113T082439Z
UID:6022-1513933200-1513945800@www.lerass.com
SUMMARY:Conseil de laboratoire
DESCRIPTION:
URL:https://www.lerass.com/event/conseil-de-laboratoire-5/
CATEGORIES:Conseil de laboratoire
END:VEVENT
END:VCALENDAR