BEGIN:VCALENDAR
VERSION:2.0
PRODID:-//Lerass - ECPv4.8//NONSGML v1.0//EN
CALSCALE:GREGORIAN
METHOD:PUBLISH
X-WR-CALNAME:Lerass
X-ORIGINAL-URL:https://www.lerass.com
X-WR-CALDESC:Évènements pour Lerass
BEGIN:VEVENT
DTSTART;TZID=Europe/Paris:20180126T093000
DTEND;TZID=Europe/Paris:20180126T123000
DTSTAMP:20260424T064639
CREATED:20171016T072701Z
LAST-MODIFIED:20180118T153255Z
UID:6024-1516959000-1516969800@www.lerass.com
SUMMARY:Conseil de laboratoire
DESCRIPTION:
URL:https://www.lerass.com/event/conseil-de-laboratoire-6/
LOCATION:Salle du CRDOC IUT A
CATEGORIES:Conseil de laboratoire
END:VEVENT
END:VCALENDAR