BEGIN:VCALENDAR
VERSION:2.0
PRODID:-//Lerass - ECPv4.8//NONSGML v1.0//EN
CALSCALE:GREGORIAN
METHOD:PUBLISH
X-WR-CALNAME:Lerass
X-ORIGINAL-URL:https://www.lerass.com
X-WR-CALDESC:Évènements pour Lerass
BEGIN:VEVENT
DTSTART;TZID=Europe/Paris:20170519T093000
DTEND;TZID=Europe/Paris:20170519T123000
DTSTAMP:20260424T131716
CREATED:20170425T135036Z
LAST-MODIFIED:20170425T135036Z
UID:5836-1495186200-1495197000@www.lerass.com
SUMMARY:Conseil du LERASS
DESCRIPTION:
URL:https://www.lerass.com/event/conseil-du-lerass/
LOCATION:Salle du conseil\, IUT A Ponsan
CATEGORIES:Conseil de laboratoire
END:VEVENT
END:VCALENDAR