BEGIN:VCALENDAR
VERSION:2.0
PRODID:-//Lerass - ECPv4.8//NONSGML v1.0//EN
CALSCALE:GREGORIAN
METHOD:PUBLISH
X-WR-CALNAME:Lerass
X-ORIGINAL-URL:https://www.lerass.com
X-WR-CALDESC:Évènements pour Lerass
BEGIN:VEVENT
DTSTART;TZID=Europe/Paris:20220628T093000
DTEND;TZID=Europe/Paris:20220628T180000
DTSTAMP:20260420T002429
CREATED:20220705T080747Z
LAST-MODIFIED:20220705T080747Z
UID:9305-1656408600-1656439200@www.lerass.com
SUMMARY:Journée d'étude "Critique de l'esprit critique" à Montpellier
DESCRIPTION:La journée d’étude « Critique de l’esprit critique » est consacrée à la restitution du travail collectif engagé par un groupe de réflexion sur le rapport Eduquer à l’esprit critique rédigé par Elena Pasquinelli et Gérald Bronner (mars 2021). \nQuelques questions vives sont abordées : \n\nQuels sont le contexte et les enjeux de ce rapport ?\nQuelles conceptions de l’esprit critique porte-il ?\nQuels rapports aux savoirs dans nos sociétés démocratiques permet-il de questionner ?\n\nProgramme \n
URL:https://www.lerass.com/event/journee-detude-critique-de-lesprit-critique-a-montpellier/
LOCATION:UPVM3 – Montpellier – Site de Saint-Charles – Salle des Actes
CATEGORIES:JE
END:VEVENT
END:VCALENDAR