BEGIN:VCALENDAR
VERSION:2.0
PRODID:-//Lerass - ECPv4.8//NONSGML v1.0//EN
CALSCALE:GREGORIAN
METHOD:PUBLISH
X-WR-CALNAME:Lerass
X-ORIGINAL-URL:https://www.lerass.com
X-WR-CALDESC:Évènements pour Lerass
BEGIN:VEVENT
DTSTART;TZID=Europe/Paris:20220617T090000
DTEND;TZID=Europe/Paris:20220617T170000
DTSTAMP:20260424T222640
CREATED:20220705T084939Z
LAST-MODIFIED:20220705T084939Z
UID:9320-1655456400-1655485200@www.lerass.com
SUMMARY:Journée d'étude Intelligibilité du numérique
DESCRIPTION:Ordre du jour : \nLe matin présentations de :\nBruno Bachimont : Manifeste pour l’intelligibilité du numérique (en PJ)\nFrançois Péréa : Anthropologie du numérique\nSarah Labelle : Les réseaux socio-numériques\nHans Dillaerts : IST au prisme du numérique \nL’après-midi présentations de :\nMathieu Lafourcade : Les plateformes numériques\nLise Verlaet : Le numérique comme artefact technoscientifique\nClément Mabi : à venir\nFlorent Pasquier (& co) : report octobre \n
URL:https://www.lerass.com/event/journee-detude-intelligibilite-du-numerique/
LOCATION:UPVM3 Montpellier – ITIC – Bureau E115 ou visio Zoom
CATEGORIES:JE
END:VEVENT
END:VCALENDAR