BEGIN:VCALENDAR
VERSION:2.0
PRODID:-//Lerass - ECPv4.8//NONSGML v1.0//EN
CALSCALE:GREGORIAN
METHOD:PUBLISH
X-WR-CALNAME:Lerass
X-ORIGINAL-URL:https://www.lerass.com
X-WR-CALDESC:Évènements pour Lerass
BEGIN:VEVENT
DTSTART;TZID=Europe/Paris:20170324T083000
DTEND;TZID=Europe/Paris:20170324T133000
DTSTAMP:20260424T181623
CREATED:20170315T121241Z
LAST-MODIFIED:20171113T083020Z
UID:5738-1490344200-1490362200@www.lerass.com
SUMMARY:Journée d'étude patrimoine LERASS - Marie Cornu et Nicolas Adell-Gombert
DESCRIPTION:Marie Cornu est juriste\, spécialiste du droit de la culture et du patrimoine.\nNicolas Adell-Gombert est anthropologue. Il travaille notamment sur le patrimoine scientifique. \n
URL:https://www.lerass.com/event/journee-detude-patrimoine-lerass-marie-cornu-et-nicolas-adell-gombert/
LOCATION:Salle du Conseil\, IUT A\, 115E Route de Narbonne\, Toulouse\, 31000
CATEGORIES:JE,Séminaire d'Axe
END:VEVENT
END:VCALENDAR