BEGIN:VCALENDAR
VERSION:2.0
PRODID:-//Lerass - ECPv4.8//NONSGML v1.0//EN
CALSCALE:GREGORIAN
METHOD:PUBLISH
X-WR-CALNAME:Lerass
X-ORIGINAL-URL:https://www.lerass.com
X-WR-CALDESC:Évènements pour Lerass
BEGIN:VEVENT
DTSTART;TZID=Europe/Paris:20171012T090000
DTEND;TZID=Europe/Paris:20171012T120000
DTSTAMP:20260424T142521
CREATED:20170919T081323Z
LAST-MODIFIED:20170919T081323Z
UID:5932-1507798800-1507809600@www.lerass.com
SUMMARY:Rentrée des doctorant.e.s du LERASS
DESCRIPTION:
URL:https://www.lerass.com/event/rentree-des-doctorant-e-s-du-lerass/
LOCATION:Salle du Conseil\, IUT A Ponsan
END:VEVENT
END:VCALENDAR