BEGIN:VCALENDAR
VERSION:2.0
PRODID:-//Lerass - ECPv4.8//NONSGML v1.0//EN
CALSCALE:GREGORIAN
METHOD:PUBLISH
X-WR-CALNAME:Lerass
X-ORIGINAL-URL:https://www.lerass.com
X-WR-CALDESC:Évènements pour Lerass
BEGIN:VEVENT
DTSTART;TZID=Europe/Paris:20180323T123000
DTEND;TZID=Europe/Paris:20180323T170000
DTSTAMP:20260424T070219
CREATED:20180115T093736Z
LAST-MODIFIED:20180212T085436Z
UID:6139-1521808200-1521824400@www.lerass.com
SUMMARY:Réunion Axe Genre
DESCRIPTION:
URL:https://www.lerass.com/event/reunion-axe-genre/
CATEGORIES:Séminaire d'Axe
END:VEVENT
END:VCALENDAR