BEGIN:VCALENDAR
VERSION:2.0
PRODID:-//Lerass - ECPv4.8//NONSGML v1.0//EN
CALSCALE:GREGORIAN
METHOD:PUBLISH
X-WR-CALNAME:Lerass
X-ORIGINAL-URL:https://www.lerass.com
X-WR-CALDESC:Évènements pour Lerass
BEGIN:VEVENT
DTSTART;TZID=Europe/Paris:20210625T100000
DTEND;TZID=Europe/Paris:20210625T120000
DTSTAMP:20260424T114007
CREATED:20210622T061454Z
LAST-MODIFIED:20210622T061454Z
UID:8439-1624615200-1624622400@www.lerass.com
SUMMARY:Réunion interne axe Genre
DESCRIPTION:Organisation de l’année universitaire 2021/2022 \n
URL:https://www.lerass.com/event/reunion-interne-axe-genre/
LOCATION:IUT Ponsan – Salle du Conseil et Visio Zoom
CATEGORIES:GT
END:VEVENT
END:VCALENDAR