BEGIN:VCALENDAR
VERSION:2.0
PRODID:-//Lerass - ECPv4.8//NONSGML v1.0//EN
CALSCALE:GREGORIAN
METHOD:PUBLISH
X-WR-CALNAME:Lerass
X-ORIGINAL-URL:https://www.lerass.com
X-WR-CALDESC:Évènements pour Lerass
BEGIN:VEVENT
DTSTART;TZID=Europe/Paris:20210409T140000
DTEND;TZID=Europe/Paris:20210409T170000
DTSTAMP:20260422T022723
CREATED:20201202T101513Z
LAST-MODIFIED:20210406T112820Z
UID:7938-1617976800-1617987600@www.lerass.com
SUMMARY:Séminaire Axe Genre (Réservé aux membres de l'axe)
DESCRIPTION:Programme de la séance de travail : \n\n\n\n\n\n\n14H – 14H30 = vie de l’axe (budget\, effectifs\, transversalité\, JE\, formations violences sexistes)\n14H30 – 15H30 = échange avec Corinne Joffre et Marjorie Allain-Moulet du projet ANITI – Artificial and Natural Intelligence Toulouse Institute (Université Fédérale Toulouse Midi-Pyrénées)\nPause de 10 min\n15H40 – 16H40 = présentation de Déborah et échanges avec les membres de l’axe\n16H40 – 17H = si besoin nous traiterons les points qui n’ont pas pu être finalisés entre 14H et 14H30\n17H00 = FIN\n\n\n\n\n\n\n
URL:https://www.lerass.com/event/seminaire-axe-genre-6/
LOCATION:Visio Zoom
CATEGORIES:Séminaire d'Axe
END:VEVENT
END:VCALENDAR