BEGIN:VCALENDAR
VERSION:2.0
PRODID:-//Lerass - ECPv4.8//NONSGML v1.0//EN
CALSCALE:GREGORIAN
METHOD:PUBLISH
X-WR-CALNAME:Lerass
X-ORIGINAL-URL:https://www.lerass.com
X-WR-CALDESC:Évènements pour Lerass
BEGIN:VEVENT
DTSTART;TZID=Europe/Paris:20210625T140000
DTEND;TZID=Europe/Paris:20210625T170000
DTSTAMP:20260424T113151
CREATED:20210623T095741Z
LAST-MODIFIED:20210623T095818Z
UID:8447-1624629600-1624640400@www.lerass.com
SUMMARY:Séminaire Axe Patrimoines et médiations
DESCRIPTION:Projet de recherche sur les médiations des collections scientifiques de l’UPS et de l’UFBA \nLien : https://univ-tlse3-fr.zoom.us/j/86566172291?pwd=WmFYSWE4MWZmdlUzWWVFVXhBUWR6Zz09\nID de réunion : 865 6617 2291\nCode secret : 366833 \n
URL:https://www.lerass.com/event/seminaire-axe-patrimoines-et-mediations/
LOCATION:Visio Zoom
CATEGORIES:Séminaire d'Axe
END:VEVENT
END:VCALENDAR