BEGIN:VCALENDAR
VERSION:2.0
PRODID:-//Lerass - ECPv4.8//NONSGML v1.0//EN
CALSCALE:GREGORIAN
METHOD:PUBLISH
X-WR-CALNAME:Lerass
X-ORIGINAL-URL:https://www.lerass.com
X-WR-CALDESC:Évènements pour Lerass
BEGIN:VEVENT
DTSTART;TZID=Europe/Paris:20231117T140000
DTEND;TZID=Europe/Paris:20231117T170000
DTSTAMP:20260424T183833
CREATED:20231108T125845Z
LAST-MODIFIED:20231112T180605Z
UID:10282-1700229600-1700240400@www.lerass.com
SUMMARY:Séminaire - Axe Patrimoines & Médiations
DESCRIPTION:“Aéronautique et patrimoine” \nInterventions > Sindy Paez Ortiz\, doctorante – contrat Cifre chez Manatour en collaboration avec le Lerass et l’ENAC. Patrimoine et aéronautique : repenser le rôle du musée comme tiers médiateur. L’exemple d’Aéroscopia > Frédérique Gaillard\, MCF- UT2J-Lerass. Projet de recherche – La photographie aéronautique : enjeux et pratiques \nUT2J – Maison de la Recherche – Salle E309 \n
URL:https://www.lerass.com/event/seminaire-axe-patrimoines-mediations-8/
LOCATION:UT2J\, Maison de la Recherche - UT2J - Salle E309\, Toulouse\, France
END:VEVENT
END:VCALENDAR