BEGIN:VCALENDAR
VERSION:2.0
PRODID:-//Lerass - ECPv4.8//NONSGML v1.0//EN
CALSCALE:GREGORIAN
METHOD:PUBLISH
X-WR-CALNAME:Lerass
X-ORIGINAL-URL:https://www.lerass.com
X-WR-CALDESC:Évènements pour Lerass
BEGIN:VEVENT
DTSTART;TZID=Europe/Paris:20201002T140000
DTEND;TZID=Europe/Paris:20201002T170000
DTSTAMP:20260423T214508
CREATED:20200924T065303Z
LAST-MODIFIED:20200924T065303Z
UID:7634-1601647200-1601658000@www.lerass.com
SUMMARY:Séminaire Axe Santé
DESCRIPTION:Programme de l’année et accueil des nouveaux collègues \n
URL:https://www.lerass.com/event/seminaire-axe-sante-3/
LOCATION:Visioconférence
CATEGORIES:Séminaire d'Axe
END:VEVENT
END:VCALENDAR