BEGIN:VCALENDAR
VERSION:2.0
PRODID:-//Lerass - ECPv4.8//NONSGML v1.0//EN
CALSCALE:GREGORIAN
METHOD:PUBLISH
X-WR-CALNAME:Lerass
X-ORIGINAL-URL:https://www.lerass.com
X-WR-CALDESC:Évènements pour Lerass
BEGIN:VEVENT
DTSTART;TZID=Europe/Paris:20170317T140000
DTEND;TZID=Europe/Paris:20170317T160000
DTSTAMP:20260424T230055
CREATED:20170315T120424Z
LAST-MODIFIED:20170315T120448Z
UID:5729-1489759200-1489766400@www.lerass.com
SUMMARY:Séminaire CPST / B.Berthou : L’image labile
DESCRIPTION:Séminaire d’équipe \nBenoît Berthou (Sciences de l’Information et de la communication) : L’image labile \n
URL:https://www.lerass.com/event/seminaire-cpst-b-berthou/
LOCATION:Salle F337\, Maison de la Recheche\, Université Toulouse Jean Jaurès\, 5\, allée Antonio Machado\, Toulouse\, 31000
END:VEVENT
END:VCALENDAR