BEGIN:VCALENDAR
VERSION:2.0
PRODID:-//Lerass - ECPv4.8//NONSGML v1.0//EN
CALSCALE:GREGORIAN
METHOD:PUBLISH
X-WR-CALNAME:Lerass
X-ORIGINAL-URL:https://www.lerass.com
X-WR-CALDESC:Évènements pour Lerass
BEGIN:VEVENT
DTSTART;TZID=Europe/Paris:20171208T133000
DTEND;TZID=Europe/Paris:20171208T153000
DTSTAMP:20260424T070219
CREATED:20171116T090958Z
LAST-MODIFIED:20171116T090958Z
UID:6091-1512739800-1512747000@www.lerass.com
SUMMARY:Séminaire CPST
DESCRIPTION:Nous vous convions à une réunion de l’équipe\, le vendredi 8 décembre de 13h30 à 15h30 dans la salle A\, MDR\, UT2J. L’ordre du jour portera sur la réorganisation du LERASS envisagée lors de la dernière AG du laboratoire. \n
URL:https://www.lerass.com/event/seminaire-cpst/
END:VEVENT
END:VCALENDAR