BEGIN:VCALENDAR
VERSION:2.0
PRODID:-//Lerass - ECPv4.8//NONSGML v1.0//EN
CALSCALE:GREGORIAN
METHOD:PUBLISH
X-WR-CALNAME:Lerass
X-ORIGINAL-URL:https://www.lerass.com
X-WR-CALDESC:Évènements pour Lerass
BEGIN:VEVENT
DTSTART;TZID=Europe/Paris:20180928T103000
DTEND;TZID=Europe/Paris:20180928T170000
DTSTAMP:20260424T020334
CREATED:20180922T092311Z
LAST-MODIFIED:20190211T083235Z
UID:6390-1538130600-1538154000@www.lerass.com
SUMMARY:Séminaire "Hommage à Arlette Bouzon"
DESCRIPTION:salle du conseil de l’IUT A (115 route de Narbonne\, Toulouse). \nIl a pour projet de mettre en lumière et en perspectives certains des travaux menés avec Arlette Bouzon ou sous sa direction. \nLe séminaire est ouvert aux membres du laboratoire. \n
URL:https://www.lerass.com/event/seminaire-dedie-a-arlette-bouzon/
CATEGORIES:JE
END:VEVENT
END:VCALENDAR