BEGIN:VCALENDAR
VERSION:2.0
PRODID:-//Lerass - ECPv4.8//NONSGML v1.0//EN
CALSCALE:GREGORIAN
METHOD:PUBLISH
X-WR-CALNAME:Lerass
X-ORIGINAL-URL:https://www.lerass.com
X-WR-CALDESC:Évènements pour Lerass
BEGIN:VEVENT
DTSTART;TZID=Europe/Paris:20170623T140000
DTEND;TZID=Europe/Paris:20170623T163000
DTSTAMP:20260424T133331
CREATED:20170315T122650Z
LAST-MODIFIED:20171113T082850Z
UID:5753-1498226400-1498235400@www.lerass.com
SUMMARY:Séminaire équipe Médiapolis-Grecom
DESCRIPTION:
URL:https://www.lerass.com/event/seminaire-equipe-mediapolis-grecom/
CATEGORIES:Séminaire d'équipe
END:VEVENT
END:VCALENDAR