BEGIN:VCALENDAR
VERSION:2.0
PRODID:-//Lerass - ECPv4.8//NONSGML v1.0//EN
CALSCALE:GREGORIAN
METHOD:PUBLISH
X-WR-CALNAME:Lerass
X-ORIGINAL-URL:https://www.lerass.com
X-WR-CALDESC:Évènements pour Lerass
BEGIN:VEVENT
DTSTART;TZID=Europe/Paris:20180622T080000
DTEND;TZID=Europe/Paris:20180622T120000
DTSTAMP:20260424T034801
CREATED:20190325T164057Z
LAST-MODIFIED:20190328T082346Z
UID:6787-1529654400-1529668800@www.lerass.com
SUMMARY:Séminaire ERPURS "Ville durable et résilience"
DESCRIPTION:Intervenant : Stephane Roche \n
URL:https://www.lerass.com/event/seminaire-erpurs-ville-durable-et-resilience/
LOCATION:Montpellier
CATEGORIES:Séminaire d'équipe
END:VEVENT
END:VCALENDAR