BEGIN:VCALENDAR
VERSION:2.0
PRODID:-//Lerass - ECPv4.8//NONSGML v1.0//EN
CALSCALE:GREGORIAN
METHOD:PUBLISH
X-WR-CALNAME:Lerass
X-ORIGINAL-URL:https://www.lerass.com
X-WR-CALDESC:Évènements pour Lerass
BEGIN:VEVENT
DTSTART;TZID=Europe/Paris:20230113T140000
DTEND;TZID=Europe/Paris:20230113T170000
DTSTAMP:20260424T214232
CREATED:20221024T133540Z
LAST-MODIFIED:20230104T073018Z
UID:9735-1673618400-1673629200@www.lerass.com
SUMMARY:Séminaire inter-axes (MOCEN et Santé)
DESCRIPTION:Intervenant : Alexandre COUTANT\, professeur au département de Communication sociale et publique de l’Université du Québec à Montréal. \nThème : « Sur quoi tu t’appuies pour dire ça ? » Ce que nous apprennent les échanges en ligne autour de l’actualité sur notre rapport aux autorités informationnelles » \nLa séance se tiendra en hybride\, sur site à la Maison de la Recherche de l’UT2J salleF337 et en distanciel (contacter Amanda Rueda pour le lien <amanda.rueda@univ-tlse2.fr>) \n
URL:https://www.lerass.com/event/seminaire-inter-axes-mocen-et-axe-sante/
LOCATION:Maison de la Recherche UT2J Salle F337
CATEGORIES:Séminaire d'Axe
END:VEVENT
END:VCALENDAR