BEGIN:VCALENDAR
VERSION:2.0
PRODID:-//Lerass - ECPv4.8//NONSGML v1.0//EN
CALSCALE:GREGORIAN
METHOD:PUBLISH
X-WR-CALNAME:Lerass
X-ORIGINAL-URL:https://www.lerass.com
X-WR-CALDESC:Évènements pour Lerass
BEGIN:VEVENT
DTSTART;TZID=Europe/Paris:20180622T140000
DTEND;TZID=Europe/Paris:20180622T170000
DTSTAMP:20260424T054014
CREATED:20170919T082518Z
LAST-MODIFIED:20180619T083546Z
UID:5953-1529676000-1529686800@www.lerass.com
SUMMARY:Séminaire Médiapolis-Grecom
DESCRIPTION:
URL:https://www.lerass.com/event/seminaire-mediapolis-grecom-10/
LOCATION:Salle 134
CATEGORIES:Séminaire d'équipe
END:VEVENT
END:VCALENDAR