BEGIN:VCALENDAR
VERSION:2.0
PRODID:-//Lerass - ECPv4.8//NONSGML v1.0//EN
CALSCALE:GREGORIAN
METHOD:PUBLISH
X-WR-CALNAME:Lerass
X-ORIGINAL-URL:https://www.lerass.com
X-WR-CALDESC:Évènements pour Lerass
BEGIN:VEVENT
DTSTART;TZID=Europe/Paris:20171013T100000
DTEND;TZID=Europe/Paris:20171013T163000
DTSTAMP:20260424T124746
CREATED:20170919T081539Z
LAST-MODIFIED:20171113T082800Z
UID:5936-1507888800-1507912200@www.lerass.com
SUMMARY:Séminaire Médiapolis-Grecom
DESCRIPTION:Écritures journalistiques \n
URL:https://www.lerass.com/event/seminaire-mediapolis-grecom-2/
CATEGORIES:Séminaire d'équipe
END:VEVENT
END:VCALENDAR