BEGIN:VCALENDAR
VERSION:2.0
PRODID:-//Lerass - ECPv4.8//NONSGML v1.0//EN
CALSCALE:GREGORIAN
METHOD:PUBLISH
X-WR-CALNAME:Lerass
X-ORIGINAL-URL:https://www.lerass.com
X-WR-CALDESC:Évènements pour Lerass
BEGIN:VEVENT
DTSTART;TZID=Europe/Paris:20170519T140000
DTEND;TZID=Europe/Paris:20170519T170000
DTSTAMP:20260424T162025
CREATED:20170418T095411Z
LAST-MODIFIED:20171113T082920Z
UID:5767-1495202400-1495213200@www.lerass.com
SUMMARY:Séminaire MICS Ouvert : Que fait le transmédia storytelling au patrimoine ? Réflexions et enjeux à partir du programme de recherche action MédiaNum
DESCRIPTION:Conférence MICS Vendredi 19 mai 2017 à 14h\, salle du conseil\, IUT Paul Sabatier\nDans le cadre du séminaire de l’équipe MICS consacré aux « patrimoines en médiations »\nConférence ouverte à tous les collègues du LERASS de Mélanie Bourdaa et Jessica de Bideran\, Université de Bordeaux\n–> Titre : Que fait le transmédia storytelling au patrimoine ? Réflexions et enjeux à partir du programme de recherche action MédiaNum \nPrésentation :\nMélanie Bourdaa\, MCF en SIC à l’Université Bordeaux Montaigne\, chercheur au laboratoire MICA\, est maître de conférences en SIC à l’université Bordeaux Montaigne. Spécialiste notamment de la réception des séries télévisées américaines contemporaines par les fans ou encore des nouvelles stratégies de production et de diffusion de contenus culturels\, elle dirige actuellement MediaNum\, programme de recherche action visant à valoriser le patrimoine aquitain via le transmédia storytelling. \nJessica de Bideran\, Chercheur Post-doctoral en SIC à l’Université Bordeaux Montaigne\, est également membre associée de l’équipe MICS du LERASS. Elle participe à plusieurs programmes de recherche où il est question de numérisation et de valorisation numérique des patrimoines (monumental\, documentaire\, etc.)\, tels que Mauriac en ligne\, MediaNum et P@trinum. \n–> Résumé\nLe projet Médianum s’inscrit dans une logique de partenariat entre le monde universitaire et les entreprises travaillant dans le domaine du transmédia dans le tissu économique aquitain\, porté par le Cluster CATS. La force de ce projet est donc de mettre en relation des chercheurs issus d’un laboratoire de communication et design\, avec des entreprises locales et régionales afin de réfléchir ensemble à la production actuelle de la Région sur le transmédia. La production d’une stratégie transmédiatique de valorisation du patrimoine régional avec la collaboration des entreprises partenaires et autour de la figure d’Aliénor d’Aquitaine nous donne ainsi l’occasion d’expérimenter l’impact de ce type de mise en récit sur le concept de patrimoine. Quelle histoire peut être racontée pour fédérer les divers supports de valorisation\, numériques et analogiques\, envisagés ? Quels principes d’engagement sont proposés aux publics ? Cette communication tentera de répondre à quelques-unes de ces questions. \n
URL:https://www.lerass.com/event/seminaire-mics-ouvert-que-fait-le-transmedia-storytelling-au-patrimoine-reflexions-et-enjeux-a-partir-du-programme-de-recherche-action-medianum/
CATEGORIES:Séminaire d'équipe
END:VEVENT
END:VCALENDAR