BEGIN:VCALENDAR
VERSION:2.0
PRODID:-//Lerass - ECPv4.8//NONSGML v1.0//EN
CALSCALE:GREGORIAN
METHOD:PUBLISH
X-WR-CALNAME:Lerass
X-ORIGINAL-URL:https://www.lerass.com
X-WR-CALDESC:Évènements pour Lerass
BEGIN:VEVENT
DTSTART;TZID=Europe/Paris:20171124T140000
DTEND;TZID=Europe/Paris:20171124T170000
DTSTAMP:20260424T094317
CREATED:20171113T081755Z
LAST-MODIFIED:20171113T081755Z
UID:6067-1511532000-1511542800@www.lerass.com
SUMMARY:Séminaire Organicom
DESCRIPTION:
URL:https://www.lerass.com/event/seminaire-organicom-3/
LOCATION:BC 70 B
CATEGORIES:Séminaire d'équipe
END:VEVENT
END:VCALENDAR