BEGIN:VCALENDAR
VERSION:2.0
PRODID:-//Lerass - ECPv4.8//NONSGML v1.0//EN
CALSCALE:GREGORIAN
METHOD:PUBLISH
X-WR-CALNAME:Lerass
X-ORIGINAL-URL:https://www.lerass.com
X-WR-CALDESC:Évènements pour Lerass
BEGIN:VEVENT
DTSTART;TZID=Europe/Paris:20180126T140000
DTEND;TZID=Europe/Paris:20180126T170000
DTSTAMP:20260424T051758
CREATED:20171113T081909Z
LAST-MODIFIED:20171113T081925Z
UID:6073-1516975200-1516986000@www.lerass.com
SUMMARY:Séminaire Organicom
DESCRIPTION:
URL:https://www.lerass.com/event/seminaire-organicom-5/
LOCATION:BC70B
CATEGORIES:Séminaire d'équipe
END:VEVENT
END:VCALENDAR