BEGIN:VCALENDAR
VERSION:2.0
PRODID:-//Lerass - ECPv4.8//NONSGML v1.0//EN
CALSCALE:GREGORIAN
METHOD:PUBLISH
X-WR-CALNAME:Lerass
X-ORIGINAL-URL:https://www.lerass.com
X-WR-CALDESC:Évènements pour Lerass
BEGIN:VEVENT
DTSTART;TZID=Europe/Paris:20180622T140000
DTEND;TZID=Europe/Paris:20180622T170000
DTSTAMP:20260424T070718
CREATED:20171113T082155Z
LAST-MODIFIED:20171113T082155Z
UID:6085-1529676000-1529686800@www.lerass.com
SUMMARY:Séminaire Organicom
DESCRIPTION:
URL:https://www.lerass.com/event/seminaire-organicom-9/
LOCATION:BC70B
CATEGORIES:Séminaire d'équipe
END:VEVENT
END:VCALENDAR