BEGIN:VCALENDAR
VERSION:2.0
PRODID:-//Lerass - ECPv4.8//NONSGML v1.0//EN
CALSCALE:GREGORIAN
METHOD:PUBLISH
X-WR-CALNAME:Lerass
X-ORIGINAL-URL:https://www.lerass.com
X-WR-CALDESC:Évènements pour Lerass
BEGIN:VEVENT
DTSTART;TZID=Europe/Paris:20210312T140000
DTEND;TZID=Europe/Paris:20210312T170000
DTSTAMP:20260422T073948
CREATED:20210303T074023Z
LAST-MODIFIED:20210303T074023Z
UID:8235-1615557600-1615568400@www.lerass.com
SUMMARY:Séminaire Organicom - Intervention de François Cooren
DESCRIPTION:Auteur de plusieurs ouvrages dans le champ de la communication organisationnelle et de plus d’une cinquantaine d’articles dans des revues internationales\, François Cooren est directeur du département de communication de l’université de Montréal. Son intervention portera sur des entretiens réalisés avec John Durham Peters à l’occasion du 40ième anniversaire du département et publiés dans la revue « Médiations & Médiatisations » (Cooren et al.\, 2020) mis en perspective d’un article de 2015 dans la revue « Communication research and practice » (Cooren\, 2015). Le séminaire s’adresse principalement à des chercheurs en communication organisationnelle mais peut aussi intéresser des chercheurs sur les médias. \nCooren\, F. (2015). In medias res : Communication\, existence\, and materiality. Communication research and practice\, 1(4)\, 307‑321.\nCooren\, Francois.\, Peters\, J.\, Peters\, B.\, & Bencherki\, N. (2020). Dialogue\, dissémination et matérialisation : Une entrevue avec John Durham Peters. Médiations & Médiatisations\, 4\, 121‑132. \n
URL:https://www.lerass.com/event/seminaire-organicom-intervention-de-francois-cooren/
LOCATION:Visio Zoom
CATEGORIES:Séminaire d'équipe
END:VEVENT
END:VCALENDAR