BEGIN:VCALENDAR
VERSION:2.0
PRODID:-//Lerass - ECPv4.8//NONSGML v1.0//EN
CALSCALE:GREGORIAN
METHOD:PUBLISH
X-WR-CALNAME:Lerass
X-ORIGINAL-URL:https://www.lerass.com
X-WR-CALDESC:Évènements pour Lerass
BEGIN:VEVENT
DTSTART;TZID=Europe/Paris:20181123T140000
DTEND;TZID=Europe/Paris:20181123T153000
DTSTAMP:20260424T040615
CREATED:20181010T141915Z
LAST-MODIFIED:20190211T083152Z
UID:6433-1542981600-1542987000@www.lerass.com
SUMMARY:Séminaire Organicom : Jean Pierre Fewou Ngouloure
DESCRIPTION:Salle BC70 rdc du bâtiment central IUT A\, 115 route de Narbonne. \nLa blockchain à l’épreuve des nouvelles technologies éducatives et organisationnelles\nJean Pierre Fewou Ngouloure (CPST LERASS)\, docteur en sciences du langage\nL’objet de ma réflexion est de tenter de montrer que les technologies de la blockchain peuvent avoir d’importantes implications en matière de gouvernance et d’acquisition des Savoirs. Elles favorisent en effet l’émergence de nouvelles dynamiques organisationnelles fondées sur un système a-hiérarchisé et de moins en moins complexe. Pour ce faire\, je propose l’idée de « réseaux de confiance »\, en lieu et place de « tiers de confiance »\, avec de grandes implications qui se résument en trois points fondamentaux : i) La blockchain fait certes naître de nouvelles formes de gouvernance et de gestion décentralisée\, mais l’idée d’une organisation entièrement autonome\, auto-gérée\, et coupée du modèle traditionnel demeure très discutable ; ii) La blockchain pourrait favoriser de nouvelles formes d’industrialisation éducative permettant un gain de temps considérable et des réductions de coûts substantielles. iii) L’on pourrait au final assister à une nouvelle économie éducative rendue possible par la marchandisation décentralisée des ressources générées par les utilisateurs de la chaine. \n
URL:https://www.lerass.com/event/seminaire-organicom-jean-pierre-fewou-ngouloure/
CATEGORIES:Séminaire d'équipe
END:VEVENT
END:VCALENDAR