BEGIN:VCALENDAR
VERSION:2.0
PRODID:-//Lerass - ECPv4.8//NONSGML v1.0//EN
CALSCALE:GREGORIAN
METHOD:PUBLISH
X-WR-CALNAME:Lerass
X-ORIGINAL-URL:https://www.lerass.com
X-WR-CALDESC:Évènements pour Lerass
BEGIN:VEVENT
DTSTART;TZID=Europe/Paris:20170519T140000
DTEND;TZID=Europe/Paris:20170519T160000
DTSTAMP:20260424T132725
CREATED:20170511T072619Z
LAST-MODIFIED:20171113T082939Z
UID:5854-1495202400-1495209600@www.lerass.com
SUMMARY:Séminaire ouvert Organicom
DESCRIPTION:A l’occasion du séminaire de l’équipe Organicom du 19 mai prochain\, Bertrand Fauré\, MCF HDR en sciences de l’information et de la communication\, présentera une communication intitulée « Pourquoi les organisations ont-elles besoin d’une théorie de l’amour ? » \nCette présentation ouverte aura lieu en salle BC 70 A (rdc du bâtiment central de l’iut – 115 route de Narbonne) entre 14h et 16h. \nElle s’organisera en trois temps ;\n– présentation avec Aurélien Deville\, étudiant en licence IO (Université de Toulouse) des origines du travail sur « une théorie de l’amour dans les organisations » \n– « How to govern good organization through communication? Towards a theory of love as a good calculation for Homo Agapus » à partir de la communication qui sera faite au colloque EGOS 2017 (European Group of Organization Studies) – résumé en pj \n– introduction au projet de séminaire sur « Le chiffrage de l’amour dans les organisations » prévu fin 2017 dans le cadre de l’axe Développement Durable du LERASS. \n
URL:https://www.lerass.com/event/seminaire-ouvert-organicom/
LOCATION:BC 70A\, IUT A Ponsan\, 115 B route de Narbonne\, Toulouse\, 31077
CATEGORIES:Séminaire d'équipe
END:VEVENT
END:VCALENDAR