BEGIN:VCALENDAR
VERSION:2.0
PRODID:-//Lerass - ECPv4.8//NONSGML v1.0//EN
CALSCALE:GREGORIAN
METHOD:PUBLISH
X-WR-CALNAME:Lerass
X-ORIGINAL-URL:https://www.lerass.com
X-WR-CALDESC:Évènements pour Lerass
BEGIN:VEVENT
DTSTART;TZID=Europe/Paris:20171221T090000
DTEND;TZID=Europe/Paris:20171221T170000
DTSTAMP:20260424T084100
CREATED:20171204T130005Z
LAST-MODIFIED:20171204T130115Z
UID:6100-1513846800-1513875600@www.lerass.com
SUMMARY:Séminaire Psycom + conférence
DESCRIPTION:9h-12h : Séminaire Psycom élargi (salle du Conseil IUT Paul Sabatier) avec des exposés de Nadia El Hadani (l’immigration dans les débats à l’Assemblée nationale)\, Natacha Souillard (les Conseils citoyens de la Politique de la ville de Toulouse)\, Pierre Aigouy (les primaires socialistes de 2006 à 2017). \n– 14h-16h : Conférence ouverte de Damon Mayaffre : Macron en campagne : Retour sur les discours de la présidentielle 2017 en France (UT2J\, F.417). \n
URL:https://www.lerass.com/event/seminaire-psycom-conference/
CATEGORIES:Séminaire d'équipe
END:VEVENT
END:VCALENDAR